BEGIN:VCALENDAR
VERSION:2.0
PRODID:-//JOINPHXPD - ECPv6.15.20//NONSGML v1.0//EN
CALSCALE:GREGORIAN
METHOD:PUBLISH
X-ORIGINAL-URL:https://joinphxpd.com
X-WR-CALDESC:Events for JOINPHXPD
REFRESH-INTERVAL;VALUE=DURATION:PT1H
X-Robots-Tag:noindex
X-PUBLISHED-TTL:PT1H
BEGIN:VTIMEZONE
TZID:America/Phoenix
BEGIN:STANDARD
TZOFFSETFROM:-0700
TZOFFSETTO:-0700
TZNAME:MST
DTSTART:20250101T000000
END:STANDARD
END:VTIMEZONE
BEGIN:VEVENT
DTSTART;TZID=America/Phoenix:20260203T180000
DTEND;TZID=America/Phoenix:20260203T200000
DTSTAMP:20260424T082015
CREATED:20260128T192853Z
LAST-MODIFIED:20260128T193536Z
UID:5549-1770141600-1770148800@joinphxpd.com
SUMMARY:SWET (Success With Effort and Training) Workout with Phoenix Police Recruiters
DESCRIPTION:Location: Phoenix Police Academy 10001 S. 15th Avenue Phoenix\, AZ 85041 – Please wait on 15th Avenue outside the gates for a recruiter to escort you on to the academy grounds. \nThe PHXPD Recruitment team is conducting a workout/nutrition/info session. This is a physical fitness event for applicants currently in the process for Police Recruit or anyone that is preparing for PHXPD PAT testing. Recruiters will be on hand to answer any questions you may have regarding the PHXPD Hiring Process as well.  \nPlease come dressed in appropriate workout attire. Registration is required. No kids under the age of 18 are allowed to attend. \nRegister\n \nIf you have questions\, please email our Recruiting officers at JOINPHXPD@phoenix.gov. Thank you!
URL:https://joinphxpd.com/event/swet-success-with-effort-and-training-workout-with-phoenix-police-recruiters-152/
LOCATION:Phoenix Police Academy\, 10001 S. 15th Avenue\, Phoenix\, AZ\, 85041
CATEGORIES:SWET
END:VEVENT
BEGIN:VEVENT
DTSTART;TZID=America/Phoenix:20260204T180000
DTEND;TZID=America/Phoenix:20260204T200000
DTSTAMP:20260424T082015
CREATED:20260128T193857Z
LAST-MODIFIED:20260128T193857Z
UID:5553-1770228000-1770235200@joinphxpd.com
SUMMARY:SWET (Success With Effort and Training) Workout with Phoenix Police Recruiters
DESCRIPTION:Location: Phoenix Police Academy 10001 S. 15th Avenue Phoenix\, AZ 85041 – Please wait on 15th Avenue outside the gates for a recruiter to escort you on to the academy grounds. \nThe PHXPD Recruitment team is conducting a workout/nutrition/info session. This is a physical fitness event for applicants currently in the process for Police Recruit or anyone that is preparing for PHXPD PAT testing. Recruiters will be on hand to answer any questions you may have regarding the PHXPD Hiring Process as well.  \nPlease come dressed in appropriate workout attire. Registration is required. No kids under the age of 18 are allowed to attend. \nRegister\n \nIf you have questions\, please email our Recruiting officers at JOINPHXPD@phoenix.gov. Thank you!
URL:https://joinphxpd.com/event/swet-success-with-effort-and-training-workout-with-phoenix-police-recruiters-153/
LOCATION:Phoenix Police Academy\, 10001 S. 15th Avenue\, Phoenix\, AZ\, 85041
CATEGORIES:SWET
END:VEVENT
BEGIN:VEVENT
DTSTART;TZID=America/Phoenix:20260206T073000
DTEND;TZID=America/Phoenix:20260206T123000
DTSTAMP:20260424T082015
CREATED:20260108T212029Z
LAST-MODIFIED:20260204T143556Z
UID:5434-1770363000-1770381000@joinphxpd.com
SUMMARY:PAT Testing – Friday\, February 6\, 2025
DESCRIPTION:Physical Ability Test (PAT) testing event is for police recruit and out-of-state police lateral applicants who have already applied with the City of Phoenix. \nIf you are currently in the hiring process\, your assigned background investigator will send you a link to sign up for testing. If you have not yet applied\, please visit JOINPHXPD.com. \nTesting will take place at the Phoenix Police Academy – 10001 S. 15th Avenue Phoenix\, AZ 85041 \nLearn more about the PAT here. \nIf you have questions\, please email our Recruiting officers at JOINPHXPD@phoenix.gov.
URL:https://joinphxpd.com/event/pat-testing-friday-february-6-2025/
LOCATION:Phoenix Police Academy\, 10001 S. 15th Avenue\, Phoenix\, AZ\, 85041
CATEGORIES:PAT
END:VEVENT
BEGIN:VEVENT
DTSTART;TZID=America/Phoenix:20260209T130000
DTEND;TZID=America/Phoenix:20260209T190000
DTSTAMP:20260424T082015
CREATED:20260205T141626Z
LAST-MODIFIED:20260212T231153Z
UID:5637-1770642000-1770663600@joinphxpd.com
SUMMARY:Meet PHXPD Recruiters
DESCRIPTION:Come hang out with our recruiters and chat about career opportunities with Phoenix PD! \n\n\n📅 Monday\, February 9th\n\n\n⏰ 1 PM–7 PM \n\n\n📍 HTeaO: 51st Ave & Bell\n\n\nIf you have any questions\, reach out to our recruiters at joinphxpd@phoenix.gov
URL:https://joinphxpd.com/event/meet-phxpd-recruiters/
LOCATION:HTeaO\, 5254 W. Bell Rd\, Glendale\, AZ\, 85308\, United States
CATEGORIES:Recruiting Events
END:VEVENT
BEGIN:VEVENT
DTSTART;TZID=America/Phoenix:20260210T133000
DTEND;TZID=America/Phoenix:20260210T160000
DTSTAMP:20260424T082015
CREATED:20260116T133912Z
LAST-MODIFIED:20260212T231207Z
UID:5475-1770730200-1770739200@joinphxpd.com
SUMMARY:Meet Our Recruiters at Camp Pendleton
DESCRIPTION:Join us and the Hiring Our Heroes team at the Camp Pendleton Career Summit\, where you’ll have the chance to meet our recruiters and find out why you should consider joining the Phoenix Police Department. All veterans\, service members\, military spouses\, and caregivers are welcome to attend! \nLearn more and register now at Camp Pendleton Career Summit. \nIf you have questions ahead of time\, please reach out to our recruiters at joinphxpd@phoenix.gov or give them a call 602-534-2677. See you there!
URL:https://joinphxpd.com/event/meet-our-recruiters-at-camp-pendleton/
LOCATION:Pacific Views Event Center\, 202850 San Jacinto Rd\, Oceanside\, CA\, 92058\, United States
CATEGORIES:Recruiting Events
END:VEVENT
BEGIN:VEVENT
DTSTART;TZID=America/Phoenix:20260210T180000
DTEND;TZID=America/Phoenix:20260210T200000
DTSTAMP:20260424T082015
CREATED:20260128T194211Z
LAST-MODIFIED:20260212T231233Z
UID:5555-1770746400-1770753600@joinphxpd.com
SUMMARY:SWET (Success With Effort and Training) Workout with Phoenix Police Recruiters
DESCRIPTION:Location: Phoenix Police Academy 10001 S. 15th Avenue Phoenix\, AZ 85041 – Please wait on 15th Avenue outside the gates for a recruiter to escort you on to the academy grounds. \nThe PHXPD Recruitment team is conducting a workout/nutrition/info session. This is a physical fitness event for applicants currently in the process for Police Recruit or anyone that is preparing for PHXPD PAT testing. Recruiters will be on hand to answer any questions you may have regarding the PHXPD Hiring Process as well.  \nPlease come dressed in appropriate workout attire. Registration is required. No kids under the age of 18 are allowed to attend. \nRegister\n \nIf you have questions\, please email our Recruiting officers at JOINPHXPD@phoenix.gov. Thank you!
URL:https://joinphxpd.com/event/swet-success-with-effort-and-training-workout-with-phoenix-police-recruiters-154/
LOCATION:Phoenix Police Academy\, 10001 S. 15th Avenue\, Phoenix\, AZ\, 85041
CATEGORIES:SWET
END:VEVENT
BEGIN:VEVENT
DTSTART;TZID=America/Phoenix:20260211T180000
DTEND;TZID=America/Phoenix:20260211T200000
DTSTAMP:20260424T082015
CREATED:20260128T194507Z
LAST-MODIFIED:20260212T231245Z
UID:5557-1770832800-1770840000@joinphxpd.com
SUMMARY:SWET (Success With Effort and Training) Workout with Phoenix Police Recruiters
DESCRIPTION:Location: Phoenix Police Academy 10001 S. 15th Avenue Phoenix\, AZ 85041 – Please wait on 15th Avenue outside the gates for a recruiter to escort you on to the academy grounds. \nThe PHXPD Recruitment team is conducting a workout/nutrition/info session. This is a physical fitness event for applicants currently in the process for Police Recruit or anyone that is preparing for PHXPD PAT testing. Recruiters will be on hand to answer any questions you may have regarding the PHXPD Hiring Process as well.  \nPlease come dressed in appropriate workout attire. Registration is required. No kids under the age of 18 are allowed to attend. \nRegister\n \nIf you have questions\, please email our Recruiting officers at JOINPHXPD@phoenix.gov. Thank you!
URL:https://joinphxpd.com/event/swet-success-with-effort-and-training-workout-with-phoenix-police-recruiters-155/
LOCATION:Phoenix Police Academy\, 10001 S. 15th Avenue\, Phoenix\, AZ\, 85041
CATEGORIES:SWET
END:VEVENT
BEGIN:VEVENT
DTSTART;TZID=America/Phoenix:20260217T180000
DTEND;TZID=America/Phoenix:20260217T200000
DTSTAMP:20260424T082015
CREATED:20260128T194740Z
LAST-MODIFIED:20260220T161256Z
UID:5559-1771351200-1771358400@joinphxpd.com
SUMMARY:SWET (Success With Effort and Training) Workout with Phoenix Police Recruiters
DESCRIPTION:Location: Phoenix Police Academy 10001 S. 15th Avenue Phoenix\, AZ 85041 – Please wait on 15th Avenue outside the gates for a recruiter to escort you on to the academy grounds. \nThe PHXPD Recruitment team is conducting a workout/nutrition/info session. This is a physical fitness event for applicants currently in the process for Police Recruit or anyone that is preparing for PHXPD PAT testing. Recruiters will be on hand to answer any questions you may have regarding the PHXPD Hiring Process as well.  \nPlease come dressed in appropriate workout attire. Registration is required. No kids under the age of 18 are allowed to attend. \nRegister\n \nIf you have questions\, please email our Recruiting officers at JOINPHXPD@phoenix.gov. Thank you!
URL:https://joinphxpd.com/event/swet-success-with-effort-and-training-workout-with-phoenix-police-recruiters-156/
LOCATION:Phoenix Police Academy\, 10001 S. 15th Avenue\, Phoenix\, AZ\, 85041
CATEGORIES:SWET
END:VEVENT
BEGIN:VEVENT
DTSTART;TZID=America/Phoenix:20260218T180000
DTEND;TZID=America/Phoenix:20260218T200000
DTSTAMP:20260424T082015
CREATED:20260128T194944Z
LAST-MODIFIED:20260220T161304Z
UID:5561-1771437600-1771444800@joinphxpd.com
SUMMARY:SWET (Success With Effort and Training) Workout with Phoenix Police Recruiters
DESCRIPTION:Location: Phoenix Police Academy 10001 S. 15th Avenue Phoenix\, AZ 85041 – Please wait on 15th Avenue outside the gates for a recruiter to escort you on to the academy grounds. \nThe PHXPD Recruitment team is conducting a workout/nutrition/info session. This is a physical fitness event for applicants currently in the process for Police Recruit or anyone that is preparing for PHXPD PAT testing. Recruiters will be on hand to answer any questions you may have regarding the PHXPD Hiring Process as well.  \nPlease come dressed in appropriate workout attire. Registration is required. No kids under the age of 18 are allowed to attend. \nRegister\n \nIf you have questions\, please email our Recruiting officers at JOINPHXPD@phoenix.gov. Thank you!
URL:https://joinphxpd.com/event/swet-success-with-effort-and-training-workout-with-phoenix-police-recruiters-157/
LOCATION:Phoenix Police Academy\, 10001 S. 15th Avenue\, Phoenix\, AZ\, 85041
CATEGORIES:SWET
END:VEVENT
BEGIN:VEVENT
DTSTART;TZID=America/Phoenix:20260221T080000
DTEND;TZID=America/Phoenix:20260221T123000
DTSTAMP:20260424T082015
CREATED:20260108T212635Z
LAST-MODIFIED:20260121T164213Z
UID:5437-1771660800-1771677000@joinphxpd.com
SUMMARY:PAT Testing – Saturday\, February 21\, 2025
DESCRIPTION:Physical Ability Test (PAT) testing event is for police recruit and out-of-state police lateral applicants who have already applied with the City of Phoenix. \nIf you are currently in the hiring process\, your assigned background investigator will send you a link to sign up for testing. If you have not yet applied\, please visit JOINPHXPD.com. \nTesting will take place at the Phoenix Police Academy – 10001 S. 15th Avenue Phoenix\, AZ 85041 \nLearn more about the PAT here. \nIf you have questions\, please email our Recruiting officers at JOINPHXPD@phoenix.gov.
URL:https://joinphxpd.com/event/pat-testing-saturday-february-21-2025/
LOCATION:Phoenix Police Academy\, 10001 S. 15th Avenue\, Phoenix\, AZ\, 85041
CATEGORIES:PAT
END:VEVENT
BEGIN:VEVENT
DTSTART;TZID=America/Phoenix:20260224T180000
DTEND;TZID=America/Phoenix:20260224T200000
DTSTAMP:20260424T082015
CREATED:20260128T195128Z
LAST-MODIFIED:20260304T143249Z
UID:5563-1771956000-1771963200@joinphxpd.com
SUMMARY:SWET (Success With Effort and Training) Workout with Phoenix Police Recruiters
DESCRIPTION:Location: Phoenix Police Academy 10001 S. 15th Avenue Phoenix\, AZ 85041 – Please wait on 15th Avenue outside the gates for a recruiter to escort you on to the academy grounds. \nThe PHXPD Recruitment team is conducting a workout/nutrition/info session. This is a physical fitness event for applicants currently in the process for Police Recruit or anyone that is preparing for PHXPD PAT testing. Recruiters will be on hand to answer any questions you may have regarding the PHXPD Hiring Process as well.  \nPlease come dressed in appropriate workout attire. Registration is required. No kids under the age of 18 are allowed to attend. \nRegister\n \nIf you have questions\, please email our Recruiting officers at JOINPHXPD@phoenix.gov. Thank you!
URL:https://joinphxpd.com/event/swet-success-with-effort-and-training-workout-with-phoenix-police-recruiters-158/
LOCATION:Phoenix Police Academy\, 10001 S. 15th Avenue\, Phoenix\, AZ\, 85041
CATEGORIES:SWET
END:VEVENT
BEGIN:VEVENT
DTSTART;TZID=America/Phoenix:20260225T180000
DTEND;TZID=America/Phoenix:20260225T200000
DTSTAMP:20260424T082015
CREATED:20260128T195322Z
LAST-MODIFIED:20260304T143304Z
UID:5565-1772042400-1772049600@joinphxpd.com
SUMMARY:SWET (Success With Effort and Training) Workout with Phoenix Police Recruiters
DESCRIPTION:Location: Phoenix Police Academy 10001 S. 15th Avenue Phoenix\, AZ 85041 – Please wait on 15th Avenue outside the gates for a recruiter to escort you on to the academy grounds. \nThe PHXPD Recruitment team is conducting a workout/nutrition/info session. This is a physical fitness event for applicants currently in the process for Police Recruit or anyone that is preparing for PHXPD PAT testing. Recruiters will be on hand to answer any questions you may have regarding the PHXPD Hiring Process as well.  \nPlease come dressed in appropriate workout attire. Registration is required. No kids under the age of 18 are allowed to attend. \nRegister\n \nIf you have questions\, please email our Recruiting officers at JOINPHXPD@phoenix.gov. Thank you!
URL:https://joinphxpd.com/event/swet-success-with-effort-and-training-workout-with-phoenix-police-recruiters-159/
LOCATION:Phoenix Police Academy\, 10001 S. 15th Avenue\, Phoenix\, AZ\, 85041
CATEGORIES:SWET
END:VEVENT
END:VCALENDAR