BEGIN:VCALENDAR
VERSION:2.0
PRODID:-//JOINPHXPD - ECPv6.15.20//NONSGML v1.0//EN
CALSCALE:GREGORIAN
METHOD:PUBLISH
X-WR-CALNAME:JOINPHXPD
X-ORIGINAL-URL:https://joinphxpd.com
X-WR-CALDESC:Events for JOINPHXPD
REFRESH-INTERVAL;VALUE=DURATION:PT1H
X-Robots-Tag:noindex
X-PUBLISHED-TTL:PT1H
BEGIN:VTIMEZONE
TZID:America/Phoenix
BEGIN:STANDARD
TZOFFSETFROM:-0700
TZOFFSETTO:-0700
TZNAME:MST
DTSTART:20230101T000000
END:STANDARD
END:VTIMEZONE
BEGIN:VEVENT
DTSTART;TZID=America/Phoenix:20240417T180000
DTEND;TZID=America/Phoenix:20240417T200000
DTSTAMP:20260424T063707
CREATED:20240404T173426Z
LAST-MODIFIED:20240404T173513Z
UID:1155-1713376800-1713384000@joinphxpd.com
SUMMARY:ANYTIME FITNESS SWET (Success with Effort and Training) Workout with Phoenix Police Recruiters
DESCRIPTION:Location: ANYTIME FITNESS at 3135 E Indian School Road Phoenix\, AZ 85016\nThis SWET workout will take place at ANYTIME FITNESS at 3135 E Indian School Road Phoenix\, AZ 85016 \nThe PHXPD Recruitment team is conducting a workout/nutrition/info session. This is a physical fitness event for applicants currently in the process for Police Recruit or anyone that is preparing for PHXPD POPAT testing. Recruiters will be on hand to answer any questions you may have regarding the PHXPD Hiring Process as well.  \nPlease come dressed in appropriate workout attire. Registration is required. No kids under the age of 18 are allowed to attend. \nRegister\n \nIf the Eventbrite SWET event is full\, please email our Recruiting officers at JOINPHXPD@phoenix.gov to let them know you will be attending. Thank you!
URL:https://joinphxpd.com/event/swet-success-with-effort-and-training-anytime-fitness-workout-with-phoenix-police-recruiters/
LOCATION:ANYTIME FITNESS\, 3135 E Indian School Road\, Phoenix\, 85016\, United States
CATEGORIES:SWET
END:VEVENT
END:VCALENDAR