BEGIN:VCALENDAR
VERSION:2.0
PRODID:-//JOINPHXPD - ECPv6.15.20//NONSGML v1.0//EN
CALSCALE:GREGORIAN
METHOD:PUBLISH
X-WR-CALNAME:JOINPHXPD
X-ORIGINAL-URL:https://joinphxpd.com
X-WR-CALDESC:Events for JOINPHXPD
REFRESH-INTERVAL;VALUE=DURATION:PT1H
X-Robots-Tag:noindex
X-PUBLISHED-TTL:PT1H
BEGIN:VTIMEZONE
TZID:America/Phoenix
BEGIN:STANDARD
TZOFFSETFROM:-0700
TZOFFSETTO:-0700
TZNAME:MST
DTSTART:20250101T000000
END:STANDARD
END:VTIMEZONE
BEGIN:VEVENT
DTSTART;TZID=America/Phoenix:20260310T100000
DTEND;TZID=America/Phoenix:20260310T140000
DTSTAMP:20260424T082831
CREATED:20260211T200703Z
LAST-MODIFIED:20260211T200703Z
UID:5688-1773136800-1773151200@joinphxpd.com
SUMMARY:Meet PHXPD Recruiters at Tarrant County College - Trinity River Campus
DESCRIPTION:We’d love to meet you at the Tarrant County College Trinity River Campus Criminal Justice Job Fair\, where you will have the opportunity to meet with our recruiters and learn about why you should join the Phoenix Police Department. Our recruiters will be there from 10 AM to 2 PM in the Campus Center. \nLearn more about the event here. \nIf you have questions ahead of time\, please reach out to our recruiters at joinphxpd@phoenix.gov or give them a call 602-534-2677. See you there!
URL:https://joinphxpd.com/event/meet-phxpd-recruiters-at-tarrant-county-college-trinity-river-campus/
LOCATION:Trinity River Campus\, 300 Trinity Campus Circle\, Forth Worth\, TX\, 76102\, United States
CATEGORIES:Recruiting Events
END:VEVENT
END:VCALENDAR