BEGIN:VCALENDAR
VERSION:2.0
PRODID:-//JOINPHXPD - ECPv6.15.20//NONSGML v1.0//EN
CALSCALE:GREGORIAN
METHOD:PUBLISH
X-WR-CALNAME:JOINPHXPD
X-ORIGINAL-URL:https://joinphxpd.com
X-WR-CALDESC:Events for JOINPHXPD
REFRESH-INTERVAL;VALUE=DURATION:PT1H
X-Robots-Tag:noindex
X-PUBLISHED-TTL:PT1H
BEGIN:VTIMEZONE
TZID:America/Phoenix
BEGIN:STANDARD
TZOFFSETFROM:-0700
TZOFFSETTO:-0700
TZNAME:MST
DTSTART:20250101T000000
END:STANDARD
END:VTIMEZONE
BEGIN:VEVENT
DTSTART;TZID=America/Phoenix:20260210T133000
DTEND;TZID=America/Phoenix:20260210T160000
DTSTAMP:20260420T071844
CREATED:20260116T133912Z
LAST-MODIFIED:20260212T231207Z
UID:5475-1770730200-1770739200@joinphxpd.com
SUMMARY:Meet Our Recruiters at Camp Pendleton
DESCRIPTION:Join us and the Hiring Our Heroes team at the Camp Pendleton Career Summit\, where you’ll have the chance to meet our recruiters and find out why you should consider joining the Phoenix Police Department. All veterans\, service members\, military spouses\, and caregivers are welcome to attend! \nLearn more and register now at Camp Pendleton Career Summit. \nIf you have questions ahead of time\, please reach out to our recruiters at joinphxpd@phoenix.gov or give them a call 602-534-2677. See you there!
URL:https://joinphxpd.com/event/meet-our-recruiters-at-camp-pendleton/
LOCATION:Pacific Views Event Center\, 202850 San Jacinto Rd\, Oceanside\, CA\, 92058\, United States
CATEGORIES:Recruiting Events
END:VEVENT
END:VCALENDAR